BEGIN:VCALENDAR
VERSION:2.0
PRODID:-//Coast Live Music - ECPv6.15.13.1//NONSGML v1.0//EN
CALSCALE:GREGORIAN
METHOD:PUBLISH
X-WR-CALNAME:Coast Live Music
X-ORIGINAL-URL:https://coastlivemusic.com
X-WR-CALDESC:Events for Coast Live Music
REFRESH-INTERVAL;VALUE=DURATION:PT1H
X-Robots-Tag:noindex
X-PUBLISHED-TTL:PT1H
BEGIN:VTIMEZONE
TZID:UTC
BEGIN:STANDARD
TZOFFSETFROM:+0000
TZOFFSETTO:+0000
TZNAME:UTC
DTSTART:20250101T000000
END:STANDARD
END:VTIMEZONE
BEGIN:VEVENT
DTSTART;TZID=UTC:20260507T180000
DTEND;TZID=UTC:20260507T203000
DTSTAMP:20260421T104622
CREATED:20251107T043101Z
LAST-MODIFIED:20260417T024406Z
UID:1879-1778176800-1778185800@coastlivemusic.com
SUMMARY:Mendelssohn's Octet in the Vineyards
DESCRIPTION:6pm Wines and Hors d’Oeuvres\, 7pm Performance \nCoast Live Music brings together a truly all-star cast of strings to perform one of the most beloved works of the chamber music repertoire overlooking the San Francisco Bay. Ticket price includes a selection of wines from the Fogarty house\, hors d’oeuvres\, and roundtrip shuttle service from the Portola Valley Town Center. (5:30pm departure from PVTC\, return post-performance.) \n\nOsvaldo Golijov “Last Round” for string nonet\nFelix Mendelssohn String Octet\, Op. 20\n\nChad Hoopes\, Amy Schwartz Moretti\, Owen Dalby\, Livia Sohn\, violins \nKatie Kadarauch\, Maiya Papach\, violas \nSæunn Thorsteinsdóttir\, Michelle Djokic\, cellos \nAnthony Manzo\, double bass \n 
URL:https://coastlivemusic.com/event/mendelssohns-octet/
LOCATION:19501 Skyline Blvd\, Woodside\, CA 94062\, USA\, 19501 Skyline Blvd\, Woodside\, CA\, 94062\, United States
END:VEVENT
BEGIN:VEVENT
DTSTART;TZID=UTC:20260926T193000
DTEND;TZID=UTC:20260926T193000
DTSTAMP:20260421T104622
CREATED:20251107T043855Z
LAST-MODIFIED:20251107T201915Z
UID:1881-1790451000-1790451000@coastlivemusic.com
SUMMARY:Third Coast Percussion
DESCRIPTION:7pm Bubbles\, 7:30pm Performance \nCoast Live Music brings one of the country’s most dynamic group of musicians to Portola Valley – we can’t wait to hear the incredible sounds of the four percussionists that make up Third Coast Percussion. Join us for “The Drum Also Sings”. \n 
URL:https://coastlivemusic.com/event/third-coast-percussion/
LOCATION:Portola Valley Town Center\, 765 Portola Rd\, Portola Valley\, CA\, 94028\, United States
END:VEVENT
END:VCALENDAR