BEGIN:VCALENDAR
VERSION:2.0
PRODID:-//Coast Live Music - ECPv6.15.13.1//NONSGML v1.0//EN
CALSCALE:GREGORIAN
METHOD:PUBLISH
X-ORIGINAL-URL:https://coastlivemusic.com
X-WR-CALDESC:Events for Coast Live Music
REFRESH-INTERVAL;VALUE=DURATION:PT1H
X-Robots-Tag:noindex
X-PUBLISHED-TTL:PT1H
BEGIN:VTIMEZONE
TZID:America/Los_Angeles
BEGIN:DAYLIGHT
TZOFFSETFROM:-0800
TZOFFSETTO:-0700
TZNAME:PDT
DTSTART:20250309T100000
END:DAYLIGHT
BEGIN:STANDARD
TZOFFSETFROM:-0700
TZOFFSETTO:-0800
TZNAME:PST
DTSTART:20251102T090000
END:STANDARD
BEGIN:DAYLIGHT
TZOFFSETFROM:-0800
TZOFFSETTO:-0700
TZNAME:PDT
DTSTART:20260308T100000
END:DAYLIGHT
BEGIN:STANDARD
TZOFFSETFROM:-0700
TZOFFSETTO:-0800
TZNAME:PST
DTSTART:20261101T090000
END:STANDARD
BEGIN:DAYLIGHT
TZOFFSETFROM:-0800
TZOFFSETTO:-0700
TZNAME:PDT
DTSTART:20270314T100000
END:DAYLIGHT
BEGIN:STANDARD
TZOFFSETFROM:-0700
TZOFFSETTO:-0800
TZNAME:PST
DTSTART:20271107T090000
END:STANDARD
END:VTIMEZONE
BEGIN:VEVENT
DTSTART;TZID=America/Los_Angeles:20260207T193000
DTEND;TZID=America/Los_Angeles:20260207T193000
DTSTAMP:20260426T001709
CREATED:20251107T031309Z
LAST-MODIFIED:20251107T201851Z
UID:1862-1770492600-1770492600@coastlivemusic.com
SUMMARY:The Viano Quartet
DESCRIPTION:7pm Bubbles\, 7:30pm Performance \nCoast Live Music presents one of the world’s leading string quartets in the intimacy of the Portola Valley Town Center. The Viano Quartet will be joined by oboist and Coast Live Music Artistic Advisor James Austin Smith for a performance of Arnold Bax’s pastoral oboe quintet. \n 
URL:https://coastlivemusic.com/event/vianoquartet/
LOCATION:Portola Valley Town Center\, 765 Portola Rd\, Portola Valley\, CA\, 94028\, United States
END:VEVENT
END:VCALENDAR